BEGIN:VCALENDAR
VERSION:2.0
PRODID:-//Intand Corporation//Tandem//EN
METHOD:PUBLISH
BEGIN:VEVENT
DTSTAMP:20260424T041352Z
DTSTART:20190513T170000Z
DTEND:20190513T180000Z
TRANSP:TRANSPARENT
PRIORITY:0
SUMMARY:LN Test
LOCATION:Park Hill South High School
DESCRIPTION:Groups:\nLNHS Coaching Staff\n\nSchools:\nLiberty North High S
 chool\n\nLocation:\nPark Hill South High School\n\n
URL;VALUE=URI:http://liberty53.tandem.co/index.php?type=view&action=event&
 id=342008
CREATED:20190513T204913Z
LAST-MODIFIED:20190513T204913Z
UID:event-342008-liberty53@intand.com
END:VEVENT
END:VCALENDAR
