BEGIN:VCALENDAR
VERSION:2.0
PRODID:-//Intand Corporation//Tandem//EN
METHOD:PUBLISH
BEGIN:VEVENT
DTSTAMP:20260424T144257Z
DTSTART:20200122T000000Z
DTEND:20200122T023000Z
TRANSP:TRANSPARENT
PRIORITY:0
SUMMARY:LHS Percussion Rehearsals
LOCATION:LHS Room 815\, LHS Room 808 Band\, LHS Room 806 Studio
DESCRIPTION:Groups:\nLHS Band\n\nSchools:\nLiberty High School\n\nLocation
 s:\nLHS Room 815\nLHS Room 808 Band\nLHS Room 806 Studio\n\n
URL;VALUE=URI:http://liberty53.tandem.co/index.php?type=view&action=event&
 id=341967
CREATED:20190513T194606Z
LAST-MODIFIED:20190513T195540Z
UID:event_request-341967-liberty53@intand.com
END:VEVENT
END:VCALENDAR
