BEGIN:VCALENDAR
VERSION:2.0
PRODID:-//Intand Corporation//Tandem//EN
METHOD:PUBLISH
BEGIN:VEVENT
DTSTAMP:20260424T024236Z
DTSTART:20190513T130000Z
DTEND:20190513T210000Z
TRANSP:TRANSPARENT
PRIORITY:0
SUMMARY:DAC-409 Elementary ILC
LOCATION:DAC 4 - 409
DESCRIPTION:Groups:\nDAC Innovation & Learning\n\nSchools:\nDistrict Admin
 istration Center\n\nLocation:\nDAC 4 - 409\n\n
URL;VALUE=URI:http://liberty53.tandem.co/index.php?type=view&action=event&
 id=341869
CREATED:20190510T203114Z
LAST-MODIFIED:20190513T122924Z
UID:event_request-341869-liberty53@intand.com
END:VEVENT
END:VCALENDAR
