BEGIN:VCALENDAR
VERSION:2.0
PRODID:-//Intand Corporation//Tandem//EN
METHOD:PUBLISH
BEGIN:VEVENT
DTSTAMP:20260424T053444Z
DTSTART:20191004T190000Z
DTEND:20191004T223000Z
TRANSP:TRANSPARENT
PRIORITY:0
SUMMARY:Cross Country at DMS
LOCATION:DMS Football Field\, DMS Baseball/Softball\, SVMS Athletic Field\
 , DMS Soccer Field
DESCRIPTION:Groups:\nDMS Cross Country\n\nSchools:\nDiscovery Middle Schoo
 l\nSouth Valley Middle School\n\nLocations:\nDMS Football Field\nDMS Baseb
 all/Softball\nSVMS Athletic Field\nDMS Soccer Field\n\n
URL;VALUE=URI:http://liberty53.tandem.co/index.php?type=view&action=event&
 id=341808
CREATED:20190510T152253Z
LAST-MODIFIED:20190510T152253Z
UID:event-341808-liberty53@intand.com
END:VEVENT
END:VCALENDAR
