BEGIN:VCALENDAR
VERSION:2.0
PRODID:-//Intand Corporation//Tandem//EN
METHOD:PUBLISH
BEGIN:VEVENT
DTSTAMP:20260424T061323Z
DTSTART:20190916T190000Z
DTEND:20190916T223000Z
TRANSP:TRANSPARENT
PRIORITY:0
SUMMARY:Cross Country at DMS
LOCATION:DMS Football Field\, DMS Baseball/Softball\, SVMS Athletic Field\
 , DMS Soccer Field
DESCRIPTION:Groups:\nDMS Cross Country\n\nSchools:\nSouth Valley Middle Sc
 hool\nDiscovery Middle School\n\nLocations:\nDMS Football Field\nDMS Baseb
 all/Softball\nSVMS Athletic Field\nDMS Soccer Field\n\n
URL;VALUE=URI:http://liberty53.tandem.co/index.php?type=view&action=event&
 id=341807
CREATED:20190510T152253Z
LAST-MODIFIED:20190510T152253Z
UID:event-341807-liberty53@intand.com
END:VEVENT
END:VCALENDAR
