BEGIN:VCALENDAR
VERSION:2.0
PRODID:-//Intand Corporation//Tandem//EN
METHOD:PUBLISH
BEGIN:VEVENT
DTSTAMP:20260424T162142Z
DTSTART:20191216T203000Z
DTEND:20191217T013000Z
TRANSP:TRANSPARENT
PRIORITY:0
SUMMARY:[Cancelled] Home Basketball Game
LOCATION:DMS Gym
DESCRIPTION:Groups:\nDMS Staff\nDMS Boys Basketball\nDMS Girls Basketball\
 n\nSchools:\nDiscovery Middle School\n\nLocation:\nDMS Gym\n\n
URL;VALUE=URI:http://liberty53.tandem.co/index.php?type=view&action=event&
 id=341794
CREATED:20190510T151614Z
LAST-MODIFIED:20191216T003734Z
UID:event-341794-liberty53@intand.com
END:VEVENT
END:VCALENDAR
