BEGIN:VCALENDAR
VERSION:2.0
PRODID:-//Intand Corporation//Tandem//EN
METHOD:PUBLISH
BEGIN:VEVENT
DTSTAMP:20260424T061421Z
DTSTART:20191118T203000Z
DTEND:20191119T020000Z
TRANSP:TRANSPARENT
PRIORITY:0
SUMMARY:Home Wrestling vs. Hogan Prep and Smithville
LOCATION:DMS Gym
DESCRIPTION:Groups:\nDMS Staff\nLMS Wrestling\n\nSchools:\nLiberty Middle 
 School\nDiscovery Middle School\n\nLocation:\nDMS Gym\n\n
URL;VALUE=URI:http://liberty53.tandem.co/index.php?type=view&action=event&
 id=341775
CREATED:20190510T150018Z
LAST-MODIFIED:20190510T150018Z
UID:event-341775-liberty53@intand.com
END:VEVENT
END:VCALENDAR
