BEGIN:VCALENDAR
VERSION:2.0
PRODID:-//Intand Corporation//Tandem//EN
METHOD:PUBLISH
BEGIN:VEVENT
DTSTAMP:20260424T104649Z
DTSTART:20191017T220000Z
DTEND:20191018T000000Z
TRANSP:TRANSPARENT
PRIORITY:0
SUMMARY:LOE-2nd  Grade Music Program
LOCATION:Liberty Oaks Elementary School\, LOE Gym
DESCRIPTION:Groups:\nFine Arts\n\nSchools:\nLiberty Oaks Elementary\nDistr
 ict Administration Center\n\nLocations:\nLiberty Oaks Elementary School\nL
 OE Gym\n\n
URL;VALUE=URI:http://liberty53.tandem.co/index.php?type=view&action=event&
 id=341659
CREATED:20190509T132129Z
LAST-MODIFIED:20191003T150656Z
UID:event-341659-liberty53@intand.com
END:VEVENT
END:VCALENDAR
