BEGIN:VCALENDAR
VERSION:2.0
PRODID:-//Intand Corporation//Tandem//EN
METHOD:PUBLISH
BEGIN:VEVENT
DTSTAMP:20260424T061858Z
DTSTART:20190516T160000Z
DTEND:20190516T180000Z
TRANSP:TRANSPARENT
PRIORITY:0
SUMMARY:LHS CLASS OF 2023 WELCOME DAY
LOCATION:LHS Fieldhouse Gym
DESCRIPTION:Please pull out the bleachers that face the wendows. \n\nSchoo
 ls:\nLiberty High School\n\nLocation:\nLHS Fieldhouse Gym\n\n
URL;VALUE=URI:http://liberty53.tandem.co/index.php?type=view&action=event&
 id=341650
CREATED:20190508T192328Z
LAST-MODIFIED:20190513T170434Z
UID:event_request-341650-liberty53@intand.com
END:VEVENT
END:VCALENDAR
