BEGIN:VCALENDAR
VERSION:2.0
PRODID:-//Intand Corporation//Tandem//EN
METHOD:PUBLISH
BEGIN:VEVENT
DTSTAMP:20260424T024604Z
DTSTART:20190514T210000Z
DTEND:20190515T000000Z
TRANSP:TRANSPARENT
PRIORITY:0
SUMMARY:LHS Baseball Districts 
LOCATION:LHS Ball Diamond 3\, LHS Ball Diamond 1\, LHS Ball Diamond 2
DESCRIPTION:Groups:\nLHS Baseball\n\nSchools:\nLiberty High School\n\nLoca
 tions:\nLHS Ball Diamond 3\nLHS Ball Diamond 1\nLHS Ball Diamond 2\n\n
URL;VALUE=URI:http://liberty53.tandem.co/index.php?type=view&action=event&
 id=341551
CREATED:20190508T153529Z
LAST-MODIFIED:20190508T153529Z
UID:event-341551-liberty53@intand.com
END:VEVENT
END:VCALENDAR
