BEGIN:VCALENDAR
VERSION:2.0
PRODID:-//Intand Corporation//Tandem//EN
METHOD:PUBLISH
BEGIN:VEVENT
DTSTAMP:20260424T041509Z
DTSTART:20190513T200000Z
DTEND:20190514T013000Z
TRANSP:TRANSPARENT
PRIORITY:0
SUMMARY:LHS- Baseball Districts
LOCATION:LHS Ball Diamond 3\, LHS Ball Diamond 1\, LHS Ball Diamond 2
DESCRIPTION:Groups:\nLHS Baseball\n\nSchools:\nLiberty High School\n\nLoca
 tions:\nLHS Ball Diamond 3\nLHS Ball Diamond 1\nLHS Ball Diamond 2\n\n
URL;VALUE=URI:http://liberty53.tandem.co/index.php?type=view&action=event&
 id=341550
CREATED:20190508T153233Z
LAST-MODIFIED:20190508T153233Z
UID:event-341550-liberty53@intand.com
END:VEVENT
END:VCALENDAR
