BEGIN:VCALENDAR
VERSION:2.0
PRODID:-//Intand Corporation//Tandem//EN
METHOD:PUBLISH
BEGIN:VEVENT
DTSTAMP:20260424T024112Z
DTSTART:20190912T230000Z
DTEND:20190913T000000Z
TRANSP:TRANSPARENT
PRIORITY:0
SUMMARY:Musical Parent Meeting
LOCATION:LHS The Little Theater
DESCRIPTION:Groups:\nLHS Speech / Debate\n\nSchools:\nLiberty High School\
 n\nLocation:\nLHS The Little Theater\n\n
URL;VALUE=URI:http://liberty53.tandem.co/index.php?type=view&action=event&
 id=341537
CREATED:20190508T145820Z
LAST-MODIFIED:20190802T172942Z
UID:event_request-341537-liberty53@intand.com
END:VEVENT
END:VCALENDAR
