BEGIN:VCALENDAR
VERSION:2.0
PRODID:-//Intand Corporation//Tandem//EN
METHOD:PUBLISH
BEGIN:VEVENT
DTSTAMP:20260424T023721Z
DTSTART:20200227T210000Z
DTEND:20200227T220000Z
TRANSP:TRANSPARENT
PRIORITY:0
SUMMARY:LMS- STUCO Mixer
LOCATION:LMS Gym\, LMS Commons
DESCRIPTION:Schools:\nLiberty Middle School\n\nLocations:\nLMS Gym\nLMS Co
 mmons\n\n
URL;VALUE=URI:http://liberty53.tandem.co/index.php?type=view&action=event&
 id=341333
CREATED:20190507T135902Z
LAST-MODIFIED:20190507T135902Z
UID:event-341333-liberty53@intand.com
END:VEVENT
END:VCALENDAR
