BEGIN:VCALENDAR
VERSION:2.0
PRODID:-//Intand Corporation//Tandem//EN
METHOD:PUBLISH
BEGIN:VEVENT
DTSTAMP:20260424T061855Z
DTSTART:20190517T120000Z
DTEND:20190517T130000Z
TRANSP:TRANSPARENT
PRIORITY:0
SUMMARY:LHS Girls Golf Meeting
LOCATION:DMS Cafeteria
DESCRIPTION:Groups:\nDMS Staff\n\nSchools:\nDiscovery Middle School\n\nLoc
 ation:\nDMS Cafeteria\n\n
URL;VALUE=URI:http://liberty53.tandem.co/index.php?type=view&action=event&
 id=341278
CREATED:20190503T174323Z
LAST-MODIFIED:20190503T174323Z
UID:event-341278-liberty53@intand.com
END:VEVENT
END:VCALENDAR
