BEGIN:VCALENDAR
VERSION:2.0
PRODID:-//Intand Corporation//Tandem//EN
METHOD:PUBLISH
BEGIN:VEVENT
DTSTAMP:20260424T041534Z
DTSTART:20191013T201500Z
DTEND:20191013T223000Z
TRANSP:TRANSPARENT
PRIORITY:0
SUMMARY:XC Meeting/Practice Location
LOCATION:LHS Learning Stairs
DESCRIPTION:Groups:\nLHS Cross Country\n\nSchools:\nLiberty High School\n\
 nLocation:\nLHS Learning Stairs\n\n
URL;VALUE=URI:http://liberty53.tandem.co/index.php?type=view&action=event&
 id=341251
CREATED:20190503T165908Z
LAST-MODIFIED:20190507T130804Z
UID:event_request-341251-liberty53@intand.com
END:VEVENT
END:VCALENDAR
