BEGIN:VCALENDAR
VERSION:2.0
PRODID:-//Intand Corporation//Tandem//EN
METHOD:PUBLISH
BEGIN:VEVENT
DTSTAMP:20260424T033659Z
DTSTART:20190609T140000Z
DTEND:20190609T190000Z
TRANSP:TRANSPARENT
PRIORITY:0
SUMMARY: LHS - KC Athletics Soccer Practice (Jones)
LOCATION:LHS Turf Practice Field
DESCRIPTION:Groups:\nKC Athletics Soccer\n\nSchools:\nLiberty High School\
 n\nLocation:\nLHS Turf Practice Field\n\n
URL;VALUE=URI:http://liberty53.tandem.co/index.php?type=view&action=event&
 id=341177
CREATED:20190503T140357Z
LAST-MODIFIED:20190503T140357Z
UID:event-341177-liberty53@intand.com
END:VEVENT
END:VCALENDAR
