BEGIN:VCALENDAR
VERSION:2.0
PRODID:-//Intand Corporation//Tandem//EN
METHOD:PUBLISH
BEGIN:VEVENT
DTSTAMP:20260424T031731Z
DTSTART:20190505T203000Z
DTEND:20190505T230000Z
TRANSP:TRANSPARENT
PRIORITY:0
SUMMARY:LHS - Arsenal Baseball Meeting
LOCATION:LHS FH Concession Room
DESCRIPTION:Groups:\nBombers Baseball\n\nSchools:\nLiberty High School\n\n
 Location:\nLHS FH Concession Room\n\n
URL;VALUE=URI:http://liberty53.tandem.co/index.php?type=view&action=event&
 id=340979
CREATED:20190501T140101Z
LAST-MODIFIED:20190501T140101Z
UID:event-340979-liberty53@intand.com
END:VEVENT
END:VCALENDAR
