BEGIN:VCALENDAR
VERSION:2.0
PRODID:-//Intand Corporation//Tandem//EN
METHOD:PUBLISH
BEGIN:VEVENT
DTSTAMP:20260424T040928Z
DTSTART:20200110T000000Z
DTEND:20200110T010000Z
TRANSP:TRANSPARENT
PRIORITY:0
SUMMARY:EPiC PTA Meeting
LOCATION:EPiC Elementary
DESCRIPTION:Meeting will be held in Room 110\n\nGroups:\nEPiC Parent\n\nSc
 hools:\nEPiC Elementary\n\nLocation:\nEPiC Elementary\n\n
URL;VALUE=URI:http://liberty53.tandem.co/index.php?type=view&action=event&
 id=340877
CREATED:20190430T161551Z
LAST-MODIFIED:20190430T161551Z
UID:event-340877-liberty53@intand.com
END:VEVENT
END:VCALENDAR
