BEGIN:VCALENDAR
VERSION:2.0
PRODID:-//Intand Corporation//Tandem//EN
METHOD:PUBLISH
BEGIN:VEVENT
DTSTAMP:20260424T033401Z
DTSTART:20190517T120000Z
DTEND:20190517T213000Z
TRANSP:TRANSPARENT
PRIORITY:0
SUMMARY:AP Testing Music Theory / Computer Sci. A 50% Ext Time
LOCATION:LHS Small Group Room
DESCRIPTION:Schools:\nLiberty High School\n\nLocation:\nLHS Small Group Ro
 om\n\n
URL;VALUE=URI:http://liberty53.tandem.co/index.php?type=view&action=event&
 id=340865
CREATED:20190430T153235Z
LAST-MODIFIED:20190430T153436Z
UID:event_request-340865-liberty53@intand.com
END:VEVENT
END:VCALENDAR
