BEGIN:VCALENDAR
VERSION:2.0
PRODID:-//Intand Corporation//Tandem//EN
METHOD:PUBLISH
BEGIN:VEVENT
DTSTAMP:20260424T050130Z
DTSTART:20191011T121500Z
DTEND:20191011T124500Z
TRANSP:TRANSPARENT
PRIORITY:0
SUMMARY:SVMS-REID-ELA-LGIR
LOCATION:SVMS LGIR
DESCRIPTION:Groups:\nSVMS 6th Gr. ELA\n\nSchools:\nSouth Valley Middle Sch
 ool\n\nLocation:\nSVMS LGIR\n\n
URL;VALUE=URI:http://liberty53.tandem.co/index.php?type=view&action=event&
 id=340754
CREATED:20190430T135549Z
LAST-MODIFIED:20191008T134704Z
UID:event_request-340754-liberty53@intand.com
END:VEVENT
END:VCALENDAR
