BEGIN:VCALENDAR
VERSION:2.0
PRODID:-//Intand Corporation//Tandem//EN
METHOD:PUBLISH
BEGIN:VEVENT
DTSTAMP:20260424T031311Z
DTSTART:20191024T170000Z
DTEND:20191024T230000Z
TRANSP:TRANSPARENT
PRIORITY:0
SUMMARY:Scream in the dark
LOCATION:HMS entire school - no outdoor facilites
DESCRIPTION:Groups:\nHMS Students\n\nSchools:\nHeritage Middle School\n\nL
 ocation:\nHMS entire school - no outdoor facilites\n\n
URL;VALUE=URI:http://liberty53.tandem.co/index.php?type=view&action=event&
 id=340672
CREATED:20190429T172324Z
LAST-MODIFIED:20190429T172324Z
UID:event-340672-liberty53@intand.com
END:VEVENT
END:VCALENDAR
