BEGIN:VCALENDAR
VERSION:2.0
PRODID:-//Intand Corporation//Tandem//EN
METHOD:PUBLISH
BEGIN:VEVENT
DTSTAMP:20260424T075936Z
DTSTART:20190503T223000Z
DTEND:20190504T023000Z
TRANSP:TRANSPARENT
PRIORITY:0
SUMMARY:Syncopations Cast Party - Shoal Creek
LOCATION:LMS Cafeteria
DESCRIPTION:Groups:\nSCE Vocal Music\n\nSchools:\nShoal Creek Elementary\n
 Liberty Middle School\n\nLocation:\nLMS Cafeteria\n\n
URL;VALUE=URI:http://liberty53.tandem.co/index.php?type=view&action=event&
 id=340166
CREATED:20190425T135615Z
LAST-MODIFIED:20190425T141559Z
UID:event_request-340166-liberty53@intand.com
END:VEVENT
END:VCALENDAR
