BEGIN:VCALENDAR
VERSION:2.0
PRODID:-//Intand Corporation//Tandem//EN
METHOD:PUBLISH
BEGIN:VEVENT
DTSTAMP:20260424T033021Z
DTSTART:20191108T010000Z
DTEND:20191108T023000Z
TRANSP:TRANSPARENT
PRIORITY:0
SUMMARY:HMS Play Performance - Tied to the Tracks
LOCATION:HMS Auditorium
DESCRIPTION:Setup: 3:00 pm\nBreakdown: 10:00 pm\n\nGroups:\nHMS Play\n\nSc
 hools:\nHeritage Middle School\n\nLocation:\nHMS Auditorium\n\n
URL;VALUE=URI:http://liberty53.tandem.co/index.php?type=view&action=event&
 id=339971
CREATED:20190423T195915Z
LAST-MODIFIED:20191022T185903Z
UID:event_request-339971-liberty53@intand.com
END:VEVENT
END:VCALENDAR
