BEGIN:VCALENDAR
VERSION:2.0
PRODID:-//Intand Corporation//Tandem//EN
METHOD:PUBLISH
BEGIN:VEVENT
DTSTAMP:20260424T031515Z
DTSTART:20191106T210000Z
DTEND:20191107T020000Z
TRANSP:TRANSPARENT
PRIORITY:0
SUMMARY:HMS Play Technical/Dress Rehearsals
LOCATION:HMS Auditorium
DESCRIPTION:Groups:\nHMS Play\n\nSchools:\nHeritage Middle School\n\nLocat
 ion:\nHMS Auditorium\n\n
URL;VALUE=URI:http://liberty53.tandem.co/index.php?type=view&action=event&
 id=339970
CREATED:20190423T184545Z
LAST-MODIFIED:20190425T201809Z
UID:event_request-339970-liberty53@intand.com
END:VEVENT
END:VCALENDAR
