BEGIN:VCALENDAR
VERSION:2.0
PRODID:-//Intand Corporation//Tandem//EN
METHOD:PUBLISH
BEGIN:VEVENT
DTSTAMP:20260424T043336Z
DTSTART:20190912T200000Z
DTEND:20190912T230000Z
TRANSP:TRANSPARENT
PRIORITY:0
SUMMARY:HMS Play Rehearsals
LOCATION:HMS Auditorium
DESCRIPTION:Groups:\nHMS Play\n\nSchools:\nHeritage Middle School\n\nLocat
 ion:\nHMS Auditorium\n\n
URL;VALUE=URI:http://liberty53.tandem.co/index.php?type=view&action=event&
 id=339932
CREATED:20190423T184333Z
LAST-MODIFIED:20190425T201758Z
UID:event_request-339932-liberty53@intand.com
END:VEVENT
END:VCALENDAR
