BEGIN:VCALENDAR
VERSION:2.0
PRODID:-//Intand Corporation//Tandem//EN
METHOD:PUBLISH
BEGIN:VEVENT
DTSTAMP:20260424T022438Z
DTSTART:20190430T180000Z
DTEND:20190430T210000Z
TRANSP:TRANSPARENT
PRIORITY:0
SUMMARY:DAC-409 Federal Programs meeting
LOCATION:DAC 4 - 409
DESCRIPTION:Groups:\nDAC Innovation & Learning\n\nSchools:\nDistrict Admin
 istration Center\n\nLocation:\nDAC 4 - 409\n\n
URL;VALUE=URI:http://liberty53.tandem.co/index.php?type=view&action=event&
 id=339906
CREATED:20190423T162958Z
LAST-MODIFIED:20190423T163554Z
UID:event_request-339906-liberty53@intand.com
END:VEVENT
END:VCALENDAR
