BEGIN:VCALENDAR
VERSION:2.0
PRODID:-//Intand Corporation//Tandem//EN
METHOD:PUBLISH
BEGIN:VEVENT
DTSTAMP:20260424T080152Z
DTSTART:20190807T130000Z
DTEND:20190807T200000Z
TRANSP:TRANSPARENT
PRIORITY:0
SUMMARY:WEB LEADER TRAINING-CAFETERIA-EHRHARD
LOCATION:SVMS Cafeteria
DESCRIPTION:Groups:\nSVMS WEB\n\nSchools:\nSouth Valley Middle School\n\nL
 ocation:\nSVMS Cafeteria\n\n
URL;VALUE=URI:http://liberty53.tandem.co/index.php?type=view&action=event&
 id=339878
CREATED:20190423T144445Z
LAST-MODIFIED:20190423T144445Z
UID:event-339878-liberty53@intand.com
END:VEVENT
END:VCALENDAR
