BEGIN:VCALENDAR
VERSION:2.0
PRODID:-//Intand Corporation//Tandem//EN
METHOD:PUBLISH
BEGIN:VEVENT
DTSTAMP:20260424T014816Z
DTSTART:20190531T150000Z
DTEND:20190531T210000Z
TRANSP:TRANSPARENT
PRIORITY:0
SUMMARY:Fine Arts Event 
LOCATION:LNHS Performing Arts Theater (GH HVAC)\, LNHS Room 607 Black Box 
 Theater
DESCRIPTION:Groups:\nLNHS Drama\n\nSchools:\nLiberty North High School\n\n
 Locations:\nLNHS Performing Arts Theater (GH HVAC)\nLNHS Room 607 Black Bo
 x Theater\n\n
URL;VALUE=URI:http://liberty53.tandem.co/index.php?type=view&action=event&
 id=339853
CREATED:20190422T164057Z
LAST-MODIFIED:20190422T164057Z
UID:event-339853-liberty53@intand.com
END:VEVENT
END:VCALENDAR
