BEGIN:VCALENDAR
VERSION:2.0
PRODID:-//Intand Corporation//Tandem//EN
METHOD:PUBLISH
BEGIN:VEVENT
DTSTAMP:20260424T043752Z
DTSTART:20191021T193000Z
DTEND:20191021T220000Z
TRANSP:TRANSPARENT
PRIORITY:0
SUMMARY:[Cancelled] Fall play rehearsals
LOCATION:DMS Cafeteria
DESCRIPTION:Groups:\nDMS Drama\n\nSchools:\nDiscovery Middle School\n\nLoc
 ation:\nDMS Cafeteria\n\n
URL;VALUE=URI:http://liberty53.tandem.co/index.php?type=view&action=event&
 id=339820
CREATED:20190421T031612Z
LAST-MODIFIED:20190623T125446Z
UID:event_request-339820-liberty53@intand.com
END:VEVENT
END:VCALENDAR
