BEGIN:VCALENDAR
VERSION:2.0
PRODID:-//Intand Corporation//Tandem//EN
METHOD:PUBLISH
BEGIN:VEVENT
DTSTAMP:20260424T014944Z
DTSTART:20190430T150000Z
DTEND:20190430T170000Z
TRANSP:TRANSPARENT
PRIORITY:0
SUMMARY:LN Early Childhood TSA Exam
LOCATION:LNHS Room 707
DESCRIPTION:Groups:\nLNHS Grade 11\nLNHS Grade 12\n\nSchools:\nLiberty Nor
 th High School\n\nLocation:\nLNHS Room 707\n\n
URL;VALUE=URI:http://liberty53.tandem.co/index.php?type=view&action=event&
 id=339816
CREATED:20190420T010622Z
LAST-MODIFIED:20190423T165808Z
UID:event_request-339816-liberty53@intand.com
END:VEVENT
END:VCALENDAR
