BEGIN:VCALENDAR
VERSION:2.0
PRODID:-//Intand Corporation//Tandem//EN
METHOD:PUBLISH
BEGIN:VEVENT
DTSTAMP:20260424T024220Z
DTSTART:20190426T153000Z
DTEND:20190426T180000Z
TRANSP:TRANSPARENT
PRIORITY:0
SUMMARY:DAC-408 SPED Meeting
LOCATION:DAC 4 - 408
DESCRIPTION:Groups:\nSSC Special Services Staff\nDAC Innovation & Learning
 \n\nSchools:\nDistrict Administration Center\n\nLocation:\nDAC 4 - 408\n\n
URL;VALUE=URI:http://liberty53.tandem.co/index.php?type=view&action=event&
 id=339805
CREATED:20190419T132128Z
LAST-MODIFIED:20190419T133102Z
UID:event_request-339805-liberty53@intand.com
END:VEVENT
END:VCALENDAR
