BEGIN:VCALENDAR
VERSION:2.0
PRODID:-//Intand Corporation//Tandem//EN
METHOD:PUBLISH
BEGIN:VEVENT
DTSTAMP:20260424T024256Z
DTSTART:20190419T190000Z
DTEND:20190419T203000Z
TRANSP:TRANSPARENT
PRIORITY:0
SUMMARY:LHS - Girls Soccer Workout
LOCATION:LHS Aerobics Room
DESCRIPTION:Groups:\nLHS Girls Soccer\n\nSchools:\nLiberty High School\n\n
 Location:\nLHS Aerobics Room\n\n
URL;VALUE=URI:http://liberty53.tandem.co/index.php?type=view&action=event&
 id=339803
CREATED:20190419T123055Z
LAST-MODIFIED:20190419T123055Z
UID:event-339803-liberty53@intand.com
END:VEVENT
END:VCALENDAR
