BEGIN:VCALENDAR
VERSION:2.0
PRODID:-//Intand Corporation//Tandem//EN
METHOD:PUBLISH
BEGIN:VEVENT
DTSTAMP:20260424T043337Z
DTSTART:20190419T160000Z
DTEND:20190419T173000Z
TRANSP:TRANSPARENT
PRIORITY:0
SUMMARY:LHS GYOT
LOCATION:LHS Administrative Conference Room
DESCRIPTION:Schools:\nLiberty High School\n\nLocation:\nLHS Administrative
  Conference Room\n\n
URL;VALUE=URI:http://liberty53.tandem.co/index.php?type=view&action=event&
 id=339775
CREATED:20190418T131340Z
LAST-MODIFIED:20190419T123010Z
UID:event_request-339775-liberty53@intand.com
END:VEVENT
END:VCALENDAR
