BEGIN:VCALENDAR
VERSION:2.0
PRODID:-//Intand Corporation//Tandem//EN
METHOD:PUBLISH
BEGIN:VEVENT
DTSTAMP:20260424T043703Z
DTSTART:20190423T125000Z
DTEND:20190423T132000Z
TRANSP:TRANSPARENT
PRIORITY:0
SUMMARY:HC Meeting 
LOCATION:LNHS Room 415 - Sports Marketing
DESCRIPTION:Groups:\nLNHS Athletics\n\nSchools:\nLiberty North High School
 \n\nLocation:\nLNHS Room 415 - Sports Marketing\n\n
URL;VALUE=URI:http://liberty53.tandem.co/index.php?type=view&action=event&
 id=339762
CREATED:20190417T192158Z
LAST-MODIFIED:20190417T192158Z
UID:event-339762-liberty53@intand.com
END:VEVENT
END:VCALENDAR
