BEGIN:VCALENDAR
VERSION:2.0
PRODID:-//Intand Corporation//Tandem//EN
METHOD:PUBLISH
BEGIN:VEVENT
DTSTAMP:20260424T054025Z
DTSTART:20190515T230000Z
DTEND:20190516T010000Z
TRANSP:TRANSPARENT
PRIORITY:0
SUMMARY:Kellybrook's Got Talent
LOCATION:LNHS Cafeteria (GH HVAC)\, LNHS Performing Arts Theater (GH HVAC)
 \, LNHS Room 612 Orchestra\, LNHS Great Hall
DESCRIPTION:Setup: 3:30 pm\nBreakdown: 8:30 pm\n\nSchools:\nKellybrook Ele
 mentary\nLiberty North High School\n\nLocations:\nLNHS Cafeteria (GH HVAC)
 \nLNHS Performing Arts Theater (GH HVAC)\nLNHS Room 612 Orchestra\nLNHS Gr
 eat Hall\n\n
URL;VALUE=URI:http://liberty53.tandem.co/index.php?type=view&action=event&
 id=339698
CREATED:20190416T203824Z
LAST-MODIFIED:20190416T203853Z
UID:event-339698-liberty53@intand.com
END:VEVENT
END:VCALENDAR
