BEGIN:VCALENDAR
VERSION:2.0
PRODID:-//Intand Corporation//Tandem//EN
METHOD:PUBLISH
BEGIN:VEVENT
DTSTAMP:20260424T061633Z
DTSTART:20190826T193000Z
DTEND:20190826T213000Z
TRANSP:TRANSPARENT
PRIORITY:0
SUMMARY:Auditions for fall play
LOCATION:DMS Cafeteria
DESCRIPTION:Groups:\nDMS Drama\n\nSchools:\nDiscovery Middle School\n\nLoc
 ation:\nDMS Cafeteria\n\n
URL;VALUE=URI:http://liberty53.tandem.co/index.php?type=view&action=event&
 id=339557
CREATED:20190416T145910Z
LAST-MODIFIED:20190416T153835Z
UID:event_request-339557-liberty53@intand.com
END:VEVENT
END:VCALENDAR
