BEGIN:VCALENDAR
VERSION:2.0
PRODID:-//Intand Corporation//Tandem//EN
METHOD:PUBLISH
BEGIN:VEVENT
DTSTAMP:20260424T024603Z
DTSTART:20190418T123000Z
DTEND:20190418T133000Z
TRANSP:TRANSPARENT
PRIORITY:0
SUMMARY:LHS - Parent Meeting- Williams
LOCATION:LHS Administrative Conference Room
DESCRIPTION:Groups:\nLHS SPED\n\nSchools:\nLiberty High School\n\nLocation
 :\nLHS Administrative Conference Room\n\n
URL;VALUE=URI:http://liberty53.tandem.co/index.php?type=view&action=event&
 id=339553
CREATED:20190416T130457Z
LAST-MODIFIED:20190419T123010Z
UID:event_request-339553-liberty53@intand.com
END:VEVENT
END:VCALENDAR
