BEGIN:VCALENDAR
VERSION:2.0
PRODID:-//Intand Corporation//Tandem//EN
METHOD:PUBLISH
BEGIN:VEVENT
DTSTAMP:20260424T061710Z
DTSTART:20190724T143000Z
DTEND:20190724T170000Z
TRANSP:TRANSPARENT
PRIORITY:0
SUMMARY:LN - GG Kids Dance Camp
LOCATION:LNHS Aux Gym - 407 (GH HVAC)
DESCRIPTION:Groups:\nLNHS Dance Team\n\nSchools:\nLiberty North High Schoo
 l\n\nLocation:\nLNHS Aux Gym - 407 (GH HVAC)\n\n
URL;VALUE=URI:http://liberty53.tandem.co/index.php?type=view&action=event&
 id=339298
CREATED:20190409T220238Z
LAST-MODIFIED:20190610T185924Z
UID:event_request-339298-liberty53@intand.com
END:VEVENT
END:VCALENDAR
