BEGIN:VCALENDAR
VERSION:2.0
PRODID:-//Intand Corporation//Tandem//EN
METHOD:PUBLISH
BEGIN:VEVENT
DTSTAMP:20260424T041702Z
DTSTART:20190511T150000Z
DTEND:20190511T170000Z
TRANSP:TRANSPARENT
PRIORITY:0
SUMMARY:LPS Community Provider Meeting
LOCATION:Liberty Early Childhood Center
DESCRIPTION:*Sarah Birk\, contact.  \n\nGroups:\nECC Staff\n\nSchools:\nEa
 rly Childhood Education Center\n\nLocation:\nLiberty Early Childhood Cente
 r\n\n
URL;VALUE=URI:http://liberty53.tandem.co/index.php?type=view&action=event&
 id=339251
CREATED:20190408T212931Z
LAST-MODIFIED:20190408T213619Z
UID:event-339251-liberty53@intand.com
END:VEVENT
END:VCALENDAR
