BEGIN:VCALENDAR
VERSION:2.0
PRODID:-//Intand Corporation//Tandem//EN
METHOD:PUBLISH
BEGIN:VEVENT
DTSTAMP:20260424T022510Z
DTSTART:20190507T180000Z
DTEND:20190507T210000Z
TRANSP:TRANSPARENT
PRIORITY:0
SUMMARY:[Cancelled] DAC-408 PBIS Discipline Committee meeting
LOCATION:DAC 4 - 408
DESCRIPTION:Groups:\nDAC Innovation & Learning\n\nSchools:\nDistrict Admin
 istration Center\n\nLocation:\nDAC 4 - 408\n\n
URL;VALUE=URI:http://liberty53.tandem.co/index.php?type=view&action=event&
 id=339214
CREATED:20190408T143728Z
LAST-MODIFIED:20190507T131543Z
UID:event-339214-liberty53@intand.com
END:VEVENT
END:VCALENDAR
