BEGIN:VCALENDAR
VERSION:2.0
PRODID:-//Intand Corporation//Tandem//EN
METHOD:PUBLISH
BEGIN:VEVENT
DTSTAMP:20260424T061825Z
DTSTART:20190405T183000Z
DTEND:20190405T191500Z
TRANSP:TRANSPARENT
PRIORITY:0
SUMMARY:AS IEP
LOCATION:SVMS Conference Suite II
DESCRIPTION:Groups:\nSVMS Staff\n\nSchools:\nSouth Valley Middle School\n\
 nLocation:\nSVMS Conference Suite II\n\n
URL;VALUE=URI:http://liberty53.tandem.co/index.php?type=view&action=event&
 id=339175
CREATED:20190405T181814Z
LAST-MODIFIED:20190408T125450Z
UID:event_request-339175-liberty53@intand.com
END:VEVENT
END:VCALENDAR
