BEGIN:VCALENDAR
VERSION:2.0
PRODID:-//Intand Corporation//Tandem//EN
METHOD:PUBLISH
BEGIN:VEVENT
DTSTAMP:20260424T024327Z
DTSTART:20190731T190000Z
DTEND:20190801T030000Z
TRANSP:TRANSPARENT
PRIORITY:0
SUMMARY:Liberty Juniors
LOCATION:LMS Gym
DESCRIPTION:Groups:\nLHS Volleyball\n\nSchools:\nLiberty Middle School\nLi
 berty High School\n\nLocation:\nLMS Gym\n\n
URL;VALUE=URI:http://liberty53.tandem.co/index.php?type=view&action=event&
 id=339058
CREATED:20190404T163124Z
LAST-MODIFIED:20190408T203758Z
UID:event_request-339058-liberty53@intand.com
END:VEVENT
END:VCALENDAR
