BEGIN:VCALENDAR
VERSION:2.0
PRODID:-//Intand Corporation//Tandem//EN
METHOD:PUBLISH
BEGIN:VEVENT
DTSTAMP:20260424T024118Z
DTSTART:20190430T223000Z
DTEND:20190501T003000Z
TRANSP:TRANSPARENT
PRIORITY:0
SUMMARY:LMS - Prodigy Baseball Practice (Palmer)
LOCATION:LMS Baseball Field
DESCRIPTION:Groups:\nProdigy Baseball Academy\n\nSchools:\nLiberty Middle 
 School\n\nLocation:\nLMS Baseball Field\n\n
URL;VALUE=URI:http://liberty53.tandem.co/index.php?type=view&action=event&
 id=339003
CREATED:20190403T184247Z
LAST-MODIFIED:20190403T184247Z
UID:event-339003-liberty53@intand.com
END:VEVENT
END:VCALENDAR
