BEGIN:VCALENDAR
VERSION:2.0
PRODID:-//Intand Corporation//Tandem//EN
METHOD:PUBLISH
BEGIN:VEVENT
DTSTAMP:20260424T144122Z
DTSTART:20190409T120000Z
DTEND:20190409T133000Z
TRANSP:TRANSPARENT
PRIORITY:0
SUMMARY:LNHS Quilters Rehearsal
LOCATION:LNHS Performing Arts Theater (GH HVAC)
DESCRIPTION:Groups:\nLNHS Theater\n\nSchools:\nLiberty North High School\n
 \nLocation:\nLNHS Performing Arts Theater (GH HVAC)\n\n
URL;VALUE=URI:http://liberty53.tandem.co/index.php?type=view&action=event&
 id=338984
CREATED:20190403T125045Z
LAST-MODIFIED:20190403T135553Z
UID:event_request-338984-liberty53@intand.com
END:VEVENT
END:VCALENDAR
