BEGIN:VCALENDAR
VERSION:2.0
PRODID:-//Intand Corporation//Tandem//EN
METHOD:PUBLISH
BEGIN:VEVENT
DTSTAMP:20260424T014632Z
DTSTART:20190402T223000Z
DTEND:20190403T003000Z
TRANSP:TRANSPARENT
PRIORITY:0
SUMMARY:Prodigy Baseball
LOCATION:LMS Baseball Field
DESCRIPTION:Groups:\nProdigy Baseball Academy\n\nSchools:\nLiberty Middle 
 School\n\nLocation:\nLMS Baseball Field\n\n
URL;VALUE=URI:http://liberty53.tandem.co/index.php?type=view&action=event&
 id=338974
CREATED:20190402T143417Z
LAST-MODIFIED:20190402T143417Z
UID:event-338974-liberty53@intand.com
END:VEVENT
END:VCALENDAR
