BEGIN:VCALENDAR
VERSION:2.0
PRODID:-//Intand Corporation//Tandem//EN
METHOD:PUBLISH
BEGIN:VEVENT
DTSTAMP:20260424T061325Z
DTSTART:20190808T150500Z
DTEND:20190808T203000Z
TRANSP:TRANSPARENT
PRIORITY:0
SUMMARY:LNHS FIELDHOUSE - CONVOCATION SET UP
LOCATION:LNHS Fieldhouse (GH HVAC)\, LNHS Fieldhouse Mezzanine
DESCRIPTION:Setup: 10:00 am\nBreakdown: 5:00 pm\n\nGroups:\nDAC Communicat
 ions\n\nSchools:\nDistrict Administration Center\nLiberty North High Schoo
 l\n\nLocations:\nLNHS Fieldhouse (GH HVAC)\nLNHS Fieldhouse Mezzanine\n\n
URL;VALUE=URI:http://liberty53.tandem.co/index.php?type=view&action=event&
 id=338969
CREATED:20190401T222507Z
LAST-MODIFIED:20190722T162842Z
UID:event_request-338969-liberty53@intand.com
END:VEVENT
END:VCALENDAR
