BEGIN:VCALENDAR
VERSION:2.0
PRODID:-//Intand Corporation//Tandem//EN
METHOD:PUBLISH
BEGIN:VEVENT
DTSTAMP:20260424T031838Z
DTSTART:20190402T120000Z
DTEND:20190402T170000Z
TRANSP:TRANSPARENT
PRIORITY:0
SUMMARY:LHS Pre-ACT Work Room
LOCATION:LHS Guidance Conference Room
DESCRIPTION:Schools:\nLiberty High School\n\nLocation:\nLHS Guidance Confe
 rence Room\n\n
URL;VALUE=URI:http://liberty53.tandem.co/index.php?type=view&action=event&
 id=338962
CREATED:20190401T191955Z
LAST-MODIFIED:20190401T192228Z
UID:event_request-338962-liberty53@intand.com
END:VEVENT
END:VCALENDAR
