BEGIN:VCALENDAR
VERSION:2.0
PRODID:-//Intand Corporation//Tandem//EN
METHOD:PUBLISH
BEGIN:VEVENT
DTSTAMP:20260424T055145Z
DTSTART:20190402T160000Z
DTEND:20190402T170000Z
TRANSP:TRANSPARENT
PRIORITY:0
SUMMARY:DAC3 Exec.Conf.Rm. - Discipline Team Meeting
LOCATION:DAC 3-Executive Conference Room
DESCRIPTION:Groups:\nDAC Innovation & Learning\n\nSchools:\nDistrict Admin
 istration Center\n\nLocation:\nDAC 3-Executive Conference Room\n\n
URL;VALUE=URI:http://liberty53.tandem.co/index.php?type=view&action=event&
 id=338960
CREATED:20190401T163120Z
LAST-MODIFIED:20190401T163120Z
UID:event-338960-liberty53@intand.com
END:VEVENT
END:VCALENDAR
