BEGIN:VCALENDAR
VERSION:2.0
PRODID:-//Intand Corporation//Tandem//EN
METHOD:PUBLISH
BEGIN:VEVENT
DTSTAMP:20260424T161013Z
DTSTART:20191205T213000Z
DTEND:20191205T230000Z
TRANSP:TRANSPARENT
PRIORITY:0
SUMMARY:LNHS Play/One-Act/Reader's Auditions
LOCATION:LNHS Performing Arts Theater (GH HVAC)
DESCRIPTION:Groups:\nLNHS Theater\n\nSchools:\nLiberty North High School\n
 \nLocation:\nLNHS Performing Arts Theater (GH HVAC)\n\n
URL;VALUE=URI:http://liberty53.tandem.co/index.php?type=view&action=event&
 id=338952
CREATED:20190401T151859Z
LAST-MODIFIED:20190626T201936Z
UID:event_request-338952-liberty53@intand.com
END:VEVENT
END:VCALENDAR
