BEGIN:VCALENDAR
VERSION:2.0
PRODID:-//Intand Corporation//Tandem//EN
METHOD:PUBLISH
BEGIN:VEVENT
DTSTAMP:20260424T061618Z
DTSTART:20190401T180000Z
DTEND:20190401T190000Z
TRANSP:TRANSPARENT
PRIORITY:0
SUMMARY:DAC-409 Summer School Staff
LOCATION:DAC 4 - 409
DESCRIPTION:Groups:\nDAC Innovation & Learning\n\nSchools:\nDistrict Admin
 istration Center\n\nLocation:\nDAC 4 - 409\n\n
URL;VALUE=URI:http://liberty53.tandem.co/index.php?type=view&action=event&
 id=338779
CREATED:20190328T145819Z
LAST-MODIFIED:20190328T150154Z
UID:event_request-338779-liberty53@intand.com
END:VEVENT
END:VCALENDAR
